BEGIN:VCALENDAR
VERSION:2.0
PRODID:-//Kensington Symphony Orchestra - ECPv6.0.1//NONSGML v1.0//EN
CALSCALE:GREGORIAN
METHOD:PUBLISH
X-ORIGINAL-URL:https://kso.org.uk
X-WR-CALDESC:Events for Kensington Symphony Orchestra
REFRESH-INTERVAL;VALUE=DURATION:PT1H
X-Robots-Tag:noindex
X-PUBLISHED-TTL:PT1H
BEGIN:VTIMEZONE
TZID:Europe/London
BEGIN:DAYLIGHT
TZOFFSETFROM:+0000
TZOFFSETTO:+0100
TZNAME:BST
DTSTART:20270328T010000
END:DAYLIGHT
BEGIN:STANDARD
TZOFFSETFROM:+0100
TZOFFSETTO:+0000
TZNAME:GMT
DTSTART:20271031T010000
END:STANDARD
END:VTIMEZONE
BEGIN:VEVENT
DTSTART;TZID=Europe/London:20270610T183000
DTEND;TZID=Europe/London:20270610T213000
DTSTAMP:20260424T113035
CREATED:20260424T100658Z
LAST-MODIFIED:20260424T100718Z
UID:5898-1812652200-1812663000@kso.org.uk
SUMMARY:Tutti rehearsal at the Grey Coat Hospital School (Greycoat Place)
DESCRIPTION:
URL:https://kso.org.uk/event/tutti-rehearsal-at-the-grey-coat-hospital-school-greycoat-place-20/
LOCATION:The Grey Coat Hospital School\, Greycoat Place SW1P 2DY\, St Andrew's Site\, Greycoat Place\, London\, SW1P 2DY\, United Kingdom
CATEGORIES:Rehearsal
ATTACH;FMTTYPE=image/jpeg:https://kso.org.uk/wp-content/uploads/2023/10/4DC4185C-0761-4947-BFAB-6D0182CFFAAD_1_105_c.jpeg
END:VEVENT
BEGIN:VEVENT
DTSTART;TZID=Europe/London:20270617T183000
DTEND;TZID=Europe/London:20270617T213000
DTSTAMP:20260424T113035
CREATED:20260424T101008Z
LAST-MODIFIED:20260424T101030Z
UID:5912-1813257000-1813267800@kso.org.uk
SUMMARY:String sectional rehearsal at Netley Primary School
DESCRIPTION:
URL:https://kso.org.uk/event/string-sectional-rehearsal-at-netley-primary-school-27/
LOCATION:Netley Primary School\, 74 Stanhope Street\, London\, NW1 3EX\, United Kingdom
CATEGORIES:Rehearsal
END:VEVENT
BEGIN:VEVENT
DTSTART;TZID=Europe/London:20270617T183000
DTEND;TZID=Europe/London:20270617T213000
DTSTAMP:20260424T113035
CREATED:20260424T101140Z
LAST-MODIFIED:20260424T101159Z
UID:5918-1813257000-1813267800@kso.org.uk
SUMMARY:Woodwind sectional rehearsal at Pimlico Academy
DESCRIPTION:
URL:https://kso.org.uk/event/woodwind-sectional-rehearsal-at-pimlico-academy-24/
LOCATION:Pimlico Academy\, 36 Lupus Street\, London\, SW1V 3AT\, United Kingdom
CATEGORIES:Rehearsal
END:VEVENT
BEGIN:VEVENT
DTSTART;TZID=Europe/London:20270624T183000
DTEND;TZID=Europe/London:20270624T213000
DTSTAMP:20260424T113035
CREATED:20260424T100722Z
LAST-MODIFIED:20260424T100742Z
UID:5900-1813861800-1813872600@kso.org.uk
SUMMARY:Tutti rehearsal at the Grey Coat Hospital School (Greycoat Place)
DESCRIPTION:
URL:https://kso.org.uk/event/tutti-rehearsal-at-the-grey-coat-hospital-school-greycoat-place-21/
LOCATION:The Grey Coat Hospital School\, Greycoat Place SW1P 2DY\, St Andrew's Site\, Greycoat Place\, London\, SW1P 2DY\, United Kingdom
CATEGORIES:Rehearsal
ATTACH;FMTTYPE=image/jpeg:https://kso.org.uk/wp-content/uploads/2023/10/4DC4185C-0761-4947-BFAB-6D0182CFFAAD_1_105_c.jpeg
END:VEVENT
BEGIN:VEVENT
DTSTART;TZID=Europe/London:20270701T183000
DTEND;TZID=Europe/London:20270701T213000
DTSTAMP:20260424T113035
CREATED:20260424T100746Z
LAST-MODIFIED:20260424T100804Z
UID:5902-1814466600-1814477400@kso.org.uk
SUMMARY:Tutti rehearsal at the Grey Coat Hospital School (Greycoat Place)
DESCRIPTION:
URL:https://kso.org.uk/event/tutti-rehearsal-at-the-grey-coat-hospital-school-greycoat-place-22/
LOCATION:The Grey Coat Hospital School\, Greycoat Place SW1P 2DY\, St Andrew's Site\, Greycoat Place\, London\, SW1P 2DY\, United Kingdom
CATEGORIES:Rehearsal
ATTACH;FMTTYPE=image/jpeg:https://kso.org.uk/wp-content/uploads/2023/10/4DC4185C-0761-4947-BFAB-6D0182CFFAAD_1_105_c.jpeg
END:VEVENT
BEGIN:VEVENT
DTSTART;TZID=Europe/London:20270704T110000
DTEND;TZID=Europe/London:20270704T170000
DTSTAMP:20260424T113035
CREATED:20260424T100845Z
LAST-MODIFIED:20260424T100901Z
UID:5906-1814698800-1814720400@kso.org.uk
SUMMARY:Tutti rehearsal at Henry Wood Hall
DESCRIPTION:
URL:https://kso.org.uk/event/tutti-rehearsal-at-henry-wood-hall-8/
LOCATION:Henry Wood Hall\, Trinity Church Square\, London\, SE1 4HU\, United Kingdom
CATEGORIES:Rehearsal
ATTACH;FMTTYPE=image/jpeg:https://kso.org.uk/wp-content/uploads/2025/04/KSOJune2016101-copy.jpg
END:VEVENT
BEGIN:VEVENT
DTSTART;TZID=Europe/London:20270705T193000
DTEND;TZID=Europe/London:20270705T193000
DTSTAMP:20260424T113035
CREATED:20260424T101311Z
LAST-MODIFIED:20260424T101334Z
UID:5922-1814815800-1814815800@kso.org.uk
SUMMARY:Concert at venue TBC
DESCRIPTION:
URL:https://kso.org.uk/event/concert-at-venue-tbc-2/
CATEGORIES:Concerts
END:VEVENT
END:VCALENDAR